############################################################################## ############################################################################## ### ### Running command: ### ### /Library/Frameworks/R.framework/Resources/bin/R CMD build --keep-empty-dirs --no-resave-data SeqSQC ### ############################################################################## ############################################################################## * checking for file ‘SeqSQC/DESCRIPTION’ ... OK * preparing ‘SeqSQC’: * checking DESCRIPTION meta-information ... OK * installing the package (it is needed to build vignettes) ----------------------------------- ERROR: dependencies ‘SNPRelate’, ‘gdsfmt’ are not available for package ‘SeqSQC’ Perhaps try a variation of: install.packages(c('SNPRelate', 'gdsfmt')) * removing ‘/private/var/folders/r0/l4fjk6cj5xj0j3brt4bplpl40000gt/T/Rtmpj8FEN4/Rinsta8ff2f020c9e/SeqSQC’ ----------------------------------- ERROR: package installation failed