Package: SeqSQC Version: 1.33.0 Maintainer: Qian Liu MaintainerEmail: qliu7 at buffalo.edu git_url: https://git.bioconductor.org/packages/SeqSQC git_branch: devel git_last_commit: 1bf7b5e git_last_commit_date: 2025-10-29 10:41:52 -0500 (Wed, 29 Oct 2025)