Package: SeqGate Version: 1.21.0 Command: /home/biocbuild/bbs-3.23-bioc/R/bin/R CMD INSTALL SeqGate StartedAt: 2025-11-13 15:17:36 -0500 (Thu, 13 Nov 2025) EndedAt: 2025-11-13 15:17:55 -0500 (Thu, 13 Nov 2025) EllapsedTime: 19.1 seconds RetCode: 0 Status: OK