Package: SeqGate Version: 1.21.0 Command: /Library/Frameworks/R.framework/Resources/bin/R CMD INSTALL SeqGate StartedAt: 2025-11-13 15:11:20 -0500 (Thu, 13 Nov 2025) EndedAt: 2025-11-13 15:11:28 -0500 (Thu, 13 Nov 2025) EllapsedTime: 8.5 seconds RetCode: 0 Status: OK