Package: SeqGate Version: 1.21.0 Maintainer: Stéphanie Rialle MaintainerEmail: stephanie.rialle at mgx.cnrs.fr git_url: https://git.bioconductor.org/packages/SeqGate git_branch: devel git_last_commit: ac612ff git_last_commit_date: 2025-10-29 11:02:36 -0500 (Wed, 29 Oct 2025)