Package: SeqGSEA Version: 1.51.0 Command: /Library/Frameworks/R.framework/Resources/bin/R CMD INSTALL SeqGSEA StartedAt: 2025-11-13 15:13:14 -0500 (Thu, 13 Nov 2025) EndedAt: 2025-11-13 15:13:28 -0500 (Thu, 13 Nov 2025) EllapsedTime: 14.1 seconds RetCode: 0 Status: OK