Package: SeqGSEA Version: 1.51.0 Command: /Library/Frameworks/R.framework/Resources/bin/R CMD build --keep-empty-dirs --no-resave-data SeqGSEA StartedAt: 2025-11-13 17:41:37 -0500 (Thu, 13 Nov 2025) EndedAt: 2025-11-13 17:42:36 -0500 (Thu, 13 Nov 2025) EllapsedTime: 58.7 seconds RetCode: 0 Status: OK PackageFile: SeqGSEA_1.51.0.tar.gz PackageFileSize: 1.604 MiB