Package: SeqGSEA Version: 1.51.0 Command: rm -rf SeqGSEA.buildbin-libdir && mkdir SeqGSEA.buildbin-libdir && /Users/biocbuild/BBS/utils/build-universal.sh SeqGSEA_1.51.0.tar.gz /Library/Frameworks/R.framework/Resources/bin/R SeqGSEA.buildbin-libdir StartedAt: 2025-11-13 23:56:30 -0500 (Thu, 13 Nov 2025) EndedAt: 2025-11-13 23:56:47 -0500 (Thu, 13 Nov 2025) EllapsedTime: 16.4 seconds RetCode: 0 Status: OK PackageFile: SeqGSEA_1.51.0.tgz PackageFileSize: 2.097 MiB