Package: SeqGSEA Version: 1.51.0 Maintainer: Xi Wang MaintainerEmail: Xi.Wang at dkfz.de git_url: https://git.bioconductor.org/packages/SeqGSEA git_branch: devel git_last_commit: d9a1c2a git_last_commit_date: 2025-10-29 10:14:28 -0500 (Wed, 29 Oct 2025)