############################################################################## ############################################################################## ### ### Running command: ### ### /Library/Frameworks/R.framework/Resources/bin/R CMD build --keep-empty-dirs --no-resave-data SeqArray ### ############################################################################## ############################################################################## * checking for file ‘SeqArray/DESCRIPTION’ ... OK * preparing ‘SeqArray’: * checking DESCRIPTION meta-information ... OK * cleaning src * installing the package (it is needed to build vignettes) ----------------------------------- ERROR: dependency ‘gdsfmt’ is not available for package ‘SeqArray’ Perhaps try a variation of: install.packages('gdsfmt') * removing ‘/private/var/folders/r0/l4fjk6cj5xj0j3brt4bplpl40000gt/T/RtmpC3araE/Rinsta0c4342f0f21/SeqArray’ ----------------------------------- ERROR: package installation failed