Package: SemDist Version: 1.45.0 Command: /home/biocbuild/bbs-3.23-bioc/R/bin/R CMD build --keep-empty-dirs --no-resave-data SemDist StartedAt: 2025-11-11 20:05:50 -0500 (Tue, 11 Nov 2025) EndedAt: 2025-11-11 20:06:24 -0500 (Tue, 11 Nov 2025) EllapsedTime: 34.0 seconds RetCode: 0 Status: OK PackageFile: SemDist_1.45.0.tar.gz PackageFileSize: 1.953 MiB