Package: SemDist Version: 1.45.0 Command: /Library/Frameworks/R.framework/Resources/bin/R CMD INSTALL SemDist StartedAt: 2025-11-12 15:40:35 -0500 (Wed, 12 Nov 2025) EndedAt: 2025-11-12 15:40:41 -0500 (Wed, 12 Nov 2025) EllapsedTime: 5.5 seconds RetCode: 0 Status: OK