Package: SemDist Version: 1.45.0 Command: /Library/Frameworks/R.framework/Resources/bin/R CMD build --keep-empty-dirs --no-resave-data SemDist StartedAt: 2025-11-12 17:12:16 -0500 (Wed, 12 Nov 2025) EndedAt: 2025-11-12 17:12:32 -0500 (Wed, 12 Nov 2025) EllapsedTime: 16.2 seconds RetCode: 0 Status: OK PackageFile: SemDist_1.45.0.tar.gz PackageFileSize: 1.953 MiB