Package: SemDist Version: 1.45.0 Command: rm -rf SemDist.buildbin-libdir && mkdir SemDist.buildbin-libdir && /Users/biocbuild/BBS/utils/build-universal.sh SemDist_1.45.0.tar.gz /Library/Frameworks/R.framework/Resources/bin/R SemDist.buildbin-libdir StartedAt: 2025-11-13 23:56:23 -0500 (Thu, 13 Nov 2025) EndedAt: 2025-11-13 23:56:30 -0500 (Thu, 13 Nov 2025) EllapsedTime: 7.2 seconds RetCode: 0 Status: OK PackageFile: SemDist_1.45.0.tgz PackageFileSize: 1.992 MiB