Package: SemDist Version: 1.45.0 Maintainer: Ian Gonzalez MaintainerEmail: gonzalez.isv at gmail.com git_url: https://git.bioconductor.org/packages/SemDist git_branch: devel git_last_commit: f13588e git_last_commit_date: 2025-10-29 10:20:53 -0500 (Wed, 29 Oct 2025)