Package: ScreenR Version: 1.13.0 Maintainer: Emanuel Michele Soda MaintainerEmail: emanuelsoda at gmail.com git_url: https://git.bioconductor.org/packages/ScreenR git_branch: devel git_last_commit: 6addcf9 git_last_commit_date: 2025-10-29 11:17:18 -0500 (Wed, 29 Oct 2025)