Package: Sconify Version: 1.31.0 Command: /home/biocbuild/bbs-3.23-bioc/R/bin/R CMD INSTALL Sconify StartedAt: 2025-11-11 15:17:45 -0500 (Tue, 11 Nov 2025) EndedAt: 2025-11-11 15:17:55 -0500 (Tue, 11 Nov 2025) EllapsedTime: 10.0 seconds RetCode: 0 Status: OK