Package: Sconify Version: 1.31.0 Command: /home/biocbuild/bbs-3.23-bioc/R/bin/R CMD build --keep-empty-dirs --no-resave-data Sconify StartedAt: 2025-11-11 20:00:03 -0500 (Tue, 11 Nov 2025) EndedAt: 2025-11-11 20:00:34 -0500 (Tue, 11 Nov 2025) EllapsedTime: 31.0 seconds RetCode: 0 Status: OK PackageFile: Sconify_1.31.0.tar.gz PackageFileSize: 4.318 MiB