Package: Sconify Version: 1.31.0 Command: /Library/Frameworks/R.framework/Resources/bin/R CMD INSTALL Sconify StartedAt: 2025-11-13 15:07:24 -0500 (Thu, 13 Nov 2025) EndedAt: 2025-11-13 15:07:30 -0500 (Thu, 13 Nov 2025) EllapsedTime: 6.0 seconds RetCode: 0 Status: OK