Package: Sconify Version: 1.31.0 Command: /Library/Frameworks/R.framework/Resources/bin/R CMD build --keep-empty-dirs --no-resave-data Sconify StartedAt: 2025-11-13 17:38:15 -0500 (Thu, 13 Nov 2025) EndedAt: 2025-11-13 17:38:29 -0500 (Thu, 13 Nov 2025) EllapsedTime: 14.2 seconds RetCode: 0 Status: OK PackageFile: Sconify_1.31.0.tar.gz PackageFileSize: 4.336 MiB