Package: Sconify Version: 1.31.0 Command: rm -rf Sconify.buildbin-libdir && mkdir Sconify.buildbin-libdir && /Users/biocbuild/BBS/utils/build-universal.sh Sconify_1.31.0.tar.gz /Library/Frameworks/R.framework/Resources/bin/R Sconify.buildbin-libdir StartedAt: 2025-11-13 23:55:41 -0500 (Thu, 13 Nov 2025) EndedAt: 2025-11-13 23:55:47 -0500 (Thu, 13 Nov 2025) EllapsedTime: 6.1 seconds RetCode: 0 Status: OK PackageFile: Sconify_1.31.0.tgz PackageFileSize: 3.062 MiB