Package: Sconify Version: 1.31.0 Maintainer: Tyler J Burns MaintainerEmail: burns.tyler at gmail.com git_url: https://git.bioconductor.org/packages/Sconify git_branch: devel git_last_commit: 5f12fd9 git_last_commit_date: 2025-10-29 10:44:03 -0500 (Wed, 29 Oct 2025)