Package: ScaledMatrix Version: 1.19.0 Command: /Library/Frameworks/R.framework/Resources/bin/R CMD INSTALL ScaledMatrix StartedAt: 2025-11-12 15:43:17 -0500 (Wed, 12 Nov 2025) EndedAt: 2025-11-12 15:43:24 -0500 (Wed, 12 Nov 2025) EllapsedTime: 7.7 seconds RetCode: 0 Status: OK