Package: ScaledMatrix Version: 1.19.0 Command: rm -rf ScaledMatrix.buildbin-libdir && mkdir ScaledMatrix.buildbin-libdir && /Users/biocbuild/BBS/utils/build-universal.sh ScaledMatrix_1.19.0.tar.gz /Library/Frameworks/R.framework/Resources/bin/R ScaledMatrix.buildbin-libdir StartedAt: 2025-11-13 23:54:46 -0500 (Thu, 13 Nov 2025) EndedAt: 2025-11-13 23:54:55 -0500 (Thu, 13 Nov 2025) EllapsedTime: 9.1 seconds RetCode: 0 Status: OK PackageFile: ScaledMatrix_1.19.0.tgz PackageFileSize: 605.2 KiB