Package: Scale4C Version: 1.33.0 Command: /Library/Frameworks/R.framework/Resources/bin/R CMD INSTALL Scale4C StartedAt: 2025-11-12 15:24:55 -0500 (Wed, 12 Nov 2025) EndedAt: 2025-11-12 15:25:05 -0500 (Wed, 12 Nov 2025) EllapsedTime: 10.0 seconds RetCode: 0 Status: OK