Package: Scale4C Version: 1.33.0 Command: /Library/Frameworks/R.framework/Resources/bin/R CMD build --keep-empty-dirs --no-resave-data Scale4C StartedAt: 2025-11-13 17:34:33 -0500 (Thu, 13 Nov 2025) EndedAt: 2025-11-13 17:35:03 -0500 (Thu, 13 Nov 2025) EllapsedTime: 30.3 seconds RetCode: 0 Status: OK PackageFile: Scale4C_1.33.0.tar.gz PackageFileSize: 4.879 MiB