Package: Scale4C Version: 1.33.0 Maintainer: Carolin Walter MaintainerEmail: carolin.walter at uni-muenster.de git_url: https://git.bioconductor.org/packages/Scale4C git_branch: devel git_last_commit: 7236205 git_last_commit_date: 2025-10-29 10:39:01 -0500 (Wed, 29 Oct 2025)