Package: SanityR Version: 1.1.0 Command: /Library/Frameworks/R.framework/Resources/bin/R CMD build --keep-empty-dirs --no-resave-data SanityR StartedAt: 2025-11-14 17:31:22 -0500 (Fri, 14 Nov 2025) EndedAt: 2025-11-14 17:32:06 -0500 (Fri, 14 Nov 2025) EllapsedTime: 44.5 seconds RetCode: 0 Status: OK PackageFile: SanityR_1.1.0.tar.gz PackageFileSize: 766.2 KiB