Package: SanityR Version: 1.1.0 Command: rm -rf SanityR.buildbin-libdir && mkdir SanityR.buildbin-libdir && /Users/biocbuild/BBS/utils/build-universal.sh SanityR_1.1.0.tar.gz /Library/Frameworks/R.framework/Resources/bin/R SanityR.buildbin-libdir StartedAt: 2025-11-16 23:51:00 -0500 (Sun, 16 Nov 2025) EndedAt: 2025-11-16 23:51:14 -0500 (Sun, 16 Nov 2025) EllapsedTime: 14.3 seconds RetCode: 0 Status: OK PackageFile: SanityR_1.1.0.tgz PackageFileSize: 816.1 KiB