Package: SamSPECTRAL Version: 1.65.0 Command: /Library/Frameworks/R.framework/Resources/bin/R CMD build --keep-empty-dirs --no-resave-data SamSPECTRAL StartedAt: 2025-11-13 17:34:10 -0500 (Thu, 13 Nov 2025) EndedAt: 2025-11-13 17:34:22 -0500 (Thu, 13 Nov 2025) EllapsedTime: 11.1 seconds RetCode: 0 Status: OK PackageFile: SamSPECTRAL_1.65.0.tar.gz PackageFileSize: 937 KiB