Package: SamSPECTRAL Version: 1.65.0 Command: rm -rf SamSPECTRAL.buildbin-libdir && mkdir SamSPECTRAL.buildbin-libdir && /Users/biocbuild/BBS/utils/build-universal.sh SamSPECTRAL_1.65.0.tar.gz /Library/Frameworks/R.framework/Resources/bin/R SamSPECTRAL.buildbin-libdir StartedAt: 2025-11-13 23:54:35 -0500 (Thu, 13 Nov 2025) EndedAt: 2025-11-13 23:54:38 -0500 (Thu, 13 Nov 2025) EllapsedTime: 3.1 seconds RetCode: 0 Status: OK PackageFile: SamSPECTRAL_1.65.0.tgz PackageFileSize: 997.5 KiB