Package: SWATH2stats Version: 1.41.0 Command: /home/biocbuild/bbs-3.23-bioc/R/bin/R CMD INSTALL SWATH2stats StartedAt: 2025-11-13 15:26:31 -0500 (Thu, 13 Nov 2025) EndedAt: 2025-11-13 15:26:48 -0500 (Thu, 13 Nov 2025) EllapsedTime: 17.5 seconds RetCode: 0 Status: OK