Package: SWATH2stats Version: 1.41.0 Command: /home/biocbuild/bbs-3.23-bioc/R/bin/R CMD build --keep-empty-dirs --no-resave-data SWATH2stats StartedAt: 2025-11-13 20:24:44 -0500 (Thu, 13 Nov 2025) EndedAt: 2025-11-13 20:25:29 -0500 (Thu, 13 Nov 2025) EllapsedTime: 45.0 seconds RetCode: 0 Status: OK PackageFile: SWATH2stats_1.41.0.tar.gz PackageFileSize: 3.033 MiB