Package: SWATH2stats Version: 1.41.0 Command: /Library/Frameworks/R.framework/Resources/bin/R CMD INSTALL SWATH2stats StartedAt: 2025-11-14 15:09:49 -0500 (Fri, 14 Nov 2025) EndedAt: 2025-11-14 15:09:56 -0500 (Fri, 14 Nov 2025) EllapsedTime: 7.2 seconds RetCode: 0 Status: OK