Package: SWATH2stats Version: 1.41.0 Command: /Library/Frameworks/R.framework/Resources/bin/R CMD build --keep-empty-dirs --no-resave-data SWATH2stats StartedAt: 2025-11-14 17:52:03 -0500 (Fri, 14 Nov 2025) EndedAt: 2025-11-14 17:52:27 -0500 (Fri, 14 Nov 2025) EllapsedTime: 24.3 seconds RetCode: 0 Status: OK PackageFile: SWATH2stats_1.41.0.tar.gz PackageFileSize: 3.033 MiB