Package: SWATH2stats Version: 1.41.0 Command: rm -rf SWATH2stats.buildbin-libdir && mkdir SWATH2stats.buildbin-libdir && /Users/biocbuild/BBS/utils/build-universal.sh SWATH2stats_1.41.0.tar.gz /Library/Frameworks/R.framework/Resources/bin/R SWATH2stats.buildbin-libdir StartedAt: 2025-11-14 23:54:22 -0500 (Fri, 14 Nov 2025) EndedAt: 2025-11-14 23:54:32 -0500 (Fri, 14 Nov 2025) EllapsedTime: 9.2 seconds RetCode: 0 Status: OK PackageFile: SWATH2stats_1.41.0.tgz PackageFileSize: 3.169 MiB