Package: SWATH2stats Version: 1.41.0 Maintainer: Peter Blattmann MaintainerEmail: peter_blattmann at bluewin.ch git_url: https://git.bioconductor.org/packages/SWATH2stats git_branch: devel git_last_commit: e8d705a git_last_commit_date: 2025-10-29 10:28:13 -0500 (Wed, 29 Oct 2025)