Package: SVP Version: 1.3.1 Command: /home/biocbuild/bbs-3.23-bioc/R/bin/R CMD INSTALL SVP StartedAt: 2025-11-26 15:20:25 -0500 (Wed, 26 Nov 2025) EndedAt: 2025-11-26 15:23:11 -0500 (Wed, 26 Nov 2025) EllapsedTime: 166.3 seconds RetCode: 0 Status: OK