Package: SVP Version: 1.3.1 Command: /home/biocbuild/bbs-3.23-bioc/R/bin/R CMD build --keep-empty-dirs --no-resave-data SVP StartedAt: 2025-11-25 20:25:33 -0500 (Tue, 25 Nov 2025) EndedAt: 2025-11-25 20:30:02 -0500 (Tue, 25 Nov 2025) EllapsedTime: 268.6 seconds RetCode: 0 Status: OK PackageFile: SVP_1.3.1.tar.gz PackageFileSize: 4.23 MiB