Package: SVP Version: 1.3.1 Command: /Library/Frameworks/R.framework/Resources/bin/R CMD INSTALL SVP StartedAt: 2025-11-14 15:13:14 -0500 (Fri, 14 Nov 2025) EndedAt: 2025-11-14 15:13:58 -0500 (Fri, 14 Nov 2025) EllapsedTime: 44.1 seconds RetCode: 0 Status: OK