Package: SVP Version: 1.3.1 Command: /Library/Frameworks/R.framework/Resources/bin/R CMD build --keep-empty-dirs --no-resave-data SVP StartedAt: 2025-11-14 17:51:58 -0500 (Fri, 14 Nov 2025) EndedAt: 2025-11-14 17:53:41 -0500 (Fri, 14 Nov 2025) EllapsedTime: 103.1 seconds RetCode: 0 Status: OK PackageFile: SVP_1.3.1.tar.gz PackageFileSize: 4.639 MiB