Package: SVP Version: 1.3.1 Command: rm -rf SVP.buildbin-libdir && mkdir SVP.buildbin-libdir && /Users/biocbuild/BBS/utils/build-universal.sh SVP_1.3.1.tar.gz /Library/Frameworks/R.framework/Resources/bin/R SVP.buildbin-libdir StartedAt: 2025-11-14 23:54:20 -0500 (Fri, 14 Nov 2025) EndedAt: 2025-11-14 23:55:16 -0500 (Fri, 14 Nov 2025) EllapsedTime: 55.4 seconds RetCode: 0 Status: OK PackageFile: SVP_1.3.1.tgz PackageFileSize: 5.276 MiB