Package: SVP Version: 1.3.1 Maintainer: Shuangbin Xu MaintainerEmail: xshuangbin at 163.com git_url: https://git.bioconductor.org/packages/SVP git_branch: devel git_last_commit: e864351 git_last_commit_date: 2025-11-03 02:03:04 -0500 (Mon, 03 Nov 2025)