Package: SUITOR Version: 1.13.0 Command: /Library/Frameworks/R.framework/Resources/bin/R CMD INSTALL SUITOR StartedAt: 2025-11-23 15:04:54 -0500 (Sun, 23 Nov 2025) EndedAt: 2025-11-23 15:05:01 -0500 (Sun, 23 Nov 2025) EllapsedTime: 6.7 seconds RetCode: 1 Status: ERROR