Package: SUITOR Version: 1.13.0 Command: /Library/Frameworks/R.framework/Resources/bin/R CMD build --keep-empty-dirs --no-resave-data SUITOR StartedAt: 2025-11-23 17:52:53 -0500 (Sun, 23 Nov 2025) EndedAt: 2025-11-23 17:52:54 -0500 (Sun, 23 Nov 2025) EllapsedTime: 1.0 seconds RetCode: 1 Status: ERROR PackageFile: None PackageFileSize: NA