Package: STRINGdb Version: 2.23.0 Command: /home/biocbuild/bbs-3.23-bioc/R/bin/R CMD build --keep-empty-dirs --no-resave-data STRINGdb StartedAt: 2025-11-11 20:27:04 -0500 (Tue, 11 Nov 2025) EndedAt: 2025-11-11 20:31:15 -0500 (Tue, 11 Nov 2025) EllapsedTime: 251.2 seconds RetCode: 0 Status: OK PackageFile: STRINGdb_2.23.0.tar.gz PackageFileSize: 9.949 MiB