Package: STRINGdb Version: 2.23.0 Command: /Library/Frameworks/R.framework/Resources/bin/R CMD INSTALL STRINGdb StartedAt: 2025-11-12 15:20:53 -0500 (Wed, 12 Nov 2025) EndedAt: 2025-11-12 15:20:55 -0500 (Wed, 12 Nov 2025) EllapsedTime: 2.5 seconds RetCode: 0 Status: OK