Package: STRINGdb Version: 2.23.0 Command: /Library/Frameworks/R.framework/Resources/bin/R CMD build --keep-empty-dirs --no-resave-data STRINGdb StartedAt: 2025-11-12 17:19:37 -0500 (Wed, 12 Nov 2025) EndedAt: 2025-11-12 17:22:42 -0500 (Wed, 12 Nov 2025) EllapsedTime: 184.3 seconds RetCode: 0 Status: OK PackageFile: STRINGdb_2.23.0.tar.gz PackageFileSize: 9.949 MiB