Package: STRINGdb Version: 2.23.0 Command: rm -rf STRINGdb.buildbin-libdir && mkdir STRINGdb.buildbin-libdir && /Users/biocbuild/BBS/utils/build-universal.sh STRINGdb_2.23.0.tar.gz /Library/Frameworks/R.framework/Resources/bin/R STRINGdb.buildbin-libdir StartedAt: 2025-11-12 21:11:59 -0500 (Wed, 12 Nov 2025) EndedAt: 2025-11-12 21:12:03 -0500 (Wed, 12 Nov 2025) EllapsedTime: 4.1 seconds RetCode: 0 Status: OK PackageFile: STRINGdb_2.23.0.tgz PackageFileSize: 10.14 MiB