Package: STRINGdb Version: 2.23.0 Maintainer: Damian Szklarczyk MaintainerEmail: damian.szklarczyk at imls.uzh.ch git_url: https://git.bioconductor.org/packages/STRINGdb git_branch: devel git_last_commit: d94568c git_last_commit_date: 2025-10-29 10:16:33 -0500 (Wed, 29 Oct 2025)